BEGIN:VCALENDAR
VERSION:2.0
PRODID:-//www.gramonet.cz//GramonetCalLib 1.0//EN
CALSCALE:GREGORIAN
METHOD:PUBLISH
BEGIN:VEVENT
SUMMARY:Jiří David, setkání a beseda s významným vizuálním umělcem
LOCATION:Klub Gumárna, K. Pazderského 2045
DTSTART:20220223T000000
DTEND:20220224T000000
UID:2026-04-19-19-37-21@infocaslav.cz
DTSTAMP:20260419T173721
Description:Jiří David na výtvarnou scénu vstoupil ve druhé polovině 
 80. let jako jeden ze zakládajících členů umělecké skupiny Tvrdohla
 ví a od té doby nepřehlédnutelným způsobem spoluutváří nejen výv
 oj českého výtvarného umění\, ale také debatu o pozici umělce a um
 ění ve společnosti. Odborná veřejnost jej chápe jako zásadní posta
 vu české postmoderny\, ale i širšímu publiku se do povědomí za dobu
  svého působení zapsal několikrát. Například v souvislosti s cyklem
  manipulovaných fotografií Bez soucitu\, ve kterém rozbrečel sedmnáct
  ve své době mocných mužů světa\, jako byli například Silvio Berlu
 sconi\, George Bush nebo Usáma bin Ládin. Mezi velmi diskutované práce
  také patří monumentální neonové Srdce nad Pražským hradem.\n\nMar
 tin Dostál\, který s Jiřím Davidem často spolupracuje\, jeho dílo ch
 arakterizuje slovy: „Smyslem práce Jiřího Davida\, a také každé je
 ho výstavy\, je působit onou davidovskou estetikou\, která se snaží b
 ortit či vyprazdňovat zavedená „krásná“ pravidla\, ale stejně ta
 k je\, v paradoxní dichotomii\, i esteticky posilovat. Jistá zašifrovan
 ost témat\, které se na Davidových obrazech a dílech objevují\, ponec
 hává divákovi otevřenou možnost jejich vnímání\, jak to odpovídá
  jeho životním zážitkům a zkušenostem se „čtením“ umění. Vž
 dy je však cítit intenzivní důvod\, proč to které dílo vznikalo.“
 \nZačátek: 18:30
END:VEVENT
END:VCALENDAR
