BEGIN:VCALENDAR
VERSION:2.0
PRODID:-//www.gramonet.cz//GramonetCalLib 1.0//EN
CALSCALE:GREGORIAN
METHOD:PUBLISH
BEGIN:VEVENT
SUMMARY:,,Jízda jedné stopy s vůní oktanů´´
LOCATION:Ronov nad Doubravou
DTSTART:20240525T000000
DTEND:20240526T000000
UID:2026-04-19-21-12-44@infocaslav.cz
DTSTAMP:20260419T191244
Description:
END:VEVENT
END:VCALENDAR
