BEGIN:VCALENDAR
VERSION:2.0
PRODID:-//www.gramonet.cz//GramonetCalLib 1.0//EN
CALSCALE:GREGORIAN
METHOD:PUBLISH
BEGIN:VEVENT
SUMMARY:Joga na Lichnici
LOCATION:Hrad Lichnice
DTSTART:20240826T000000
DTEND:20240827T000000
UID:2026-04-19-19-33-26@infocaslav.cz
DTSTAMP:20260419T173326
Description:Začátek akce je v 18:00 na nádvoří Lichnice.
END:VEVENT
END:VCALENDAR
