BEGIN:VCALENDAR
VERSION:2.0
PRODID:-//www.gramonet.cz//GramonetCalLib 1.0//EN
CALSCALE:GREGORIAN
METHOD:PUBLISH
BEGIN:VEVENT
SUMMARY:Josef Vejvoda slaví 80 narozeniny s Věnovankou
LOCATION:Dusíkovo divadlo Čáslav
DTSTART:20250427T000000
DTEND:20250428T000000
UID:2026-04-19-19-37-30@infocaslav.cz
DTSTAMP:20260419T173730
Description:
END:VEVENT
END:VCALENDAR
