BEGIN:VCALENDAR
VERSION:2.0
PRODID:-//www.gramonet.cz//GramonetCalLib 1.0//EN
CALSCALE:GREGORIAN
METHOD:PUBLISH
BEGIN:VEVENT
SUMMARY:JURSKÝ SVĚT: NADVLÁDA
LOCATION:Kino Miloše Formana, Jeníkovská 138/25, 28601
DTSTART:20220716T000000
DTEND:20220717T000000
UID:2026-04-19-21-07-10@infocaslav.cz
DTSTAMP:20260419T190710
Description:
END:VEVENT
END:VCALENDAR
