BEGIN:VCALENDAR
VERSION:2.0
PRODID:-//www.gramonet.cz//GramonetCalLib 1.0//EN
CALSCALE:GREGORIAN
METHOD:PUBLISH
BEGIN:VEVENT
SUMMARY:Kábrt disco
LOCATION:hotel Grand
DTSTART:20230311T000000
DTEND:20230312T000000
UID:2026-04-19-19-28-36@infocaslav.cz
DTSTAMP:20260419T172836
Description:
END:VEVENT
END:VCALENDAR
