BEGIN:VCALENDAR
VERSION:2.0
PRODID:-//www.gramonet.cz//GramonetCalLib 1.0//EN
CALSCALE:GREGORIAN
METHOD:PUBLISH
BEGIN:VEVENT
SUMMARY:Kačina dokořán
LOCATION:Kačina
DTSTART:20240413T000000
DTEND:20240414T000000
UID:2026-04-19-21-03-26@infocaslav.cz
DTSTAMP:20260419T190326
Description:V sobotu 13. dubna 2023 se zámek Kačina opět připojí k cel
 ostátní akci Brány památek dokořán na kterou všechny srdečně zve.
END:VEVENT
END:VCALENDAR
