BEGIN:VCALENDAR
VERSION:2.0
PRODID:-//www.gramonet.cz//GramonetCalLib 1.0//EN
CALSCALE:GREGORIAN
METHOD:PUBLISH
BEGIN:VEVENT
SUMMARY:Kačina nespí
LOCATION:Zámek Kačina
DTSTART:20230819T000000
DTEND:20230820T000000
UID:2026-04-19-19-29-34@infocaslav.cz
DTSTAMP:20260419T172934
Description:Rádi bychom Vás pozvali na Kačinu na akci Kačina nespí. No
 ční stezka se strašidly\, koncerty\, oranžerie se zámeckým zahradní
 kem\, program v zámecké kuchyni\,  prohlídky interiérů za svitu bater
 ek i občerstvení na nádvoří – to vše na Vás čeká na zámku Kač
 ina v sobotu 19. srpna.
END:VEVENT
END:VCALENDAR
