BEGIN:VCALENDAR
VERSION:2.0
PRODID:-//www.gramonet.cz//GramonetCalLib 1.0//EN
CALSCALE:GREGORIAN
METHOD:PUBLISH
BEGIN:VEVENT
SUMMARY:Kačina s baterkami
LOCATION:Kačina
DTSTART:20240824T000000
DTEND:20240825T000000
UID:2026-04-19-21-05-31@infocaslav.cz
DTSTAMP:20260419T190531
Description:Tři noční prohlídkové trasy\, 13 chotkovských komnat\, ta
 jemnství kačinského sklepení.
END:VEVENT
END:VCALENDAR
