BEGIN:VCALENDAR
VERSION:2.0
PRODID:-//www.gramonet.cz//GramonetCalLib 1.0//EN
CALSCALE:GREGORIAN
METHOD:PUBLISH
BEGIN:VEVENT
SUMMARY:Kačinské hry
LOCATION:Kačina
DTSTART:20230422T000000
DTEND:20230423T000000
UID:2026-04-19-19-30-44@infocaslav.cz
DTSTAMP:20260419T173044
Description:
END:VEVENT
END:VCALENDAR
