BEGIN:VCALENDAR
VERSION:2.0
PRODID:-//www.gramonet.cz//GramonetCalLib 1.0//EN
CALSCALE:GREGORIAN
METHOD:PUBLISH
BEGIN:VEVENT
SUMMARY:Kája a Bambuláček - Čokoládová Show 2025 - Čáslav
LOCATION:Hotel Grand Čáslav
DTSTART:20251128T000000
DTEND:20251129T000000
UID:2026-04-19-21-24-24@infocaslav.cz
DTSTAMP:20260419T192424
Description:
END:VEVENT
END:VCALENDAR
