BEGIN:VCALENDAR
VERSION:2.0
PRODID:-//www.gramonet.cz//GramonetCalLib 1.0//EN
CALSCALE:GREGORIAN
METHOD:PUBLISH
BEGIN:VEVENT
SUMMARY:Karnevalový průvod městem
LOCATION:nám. Jana Žižky z Trocnova
DTSTART:20230216T000000
DTEND:20230217T000000
UID:2026-04-19-19-34-02@infocaslav.cz
DTSTAMP:20260419T173402
Description:
END:VEVENT
END:VCALENDAR
