BEGIN:VCALENDAR
VERSION:2.0
PRODID:-//www.gramonet.cz//GramonetCalLib 1.0//EN
CALSCALE:GREGORIAN
METHOD:PUBLISH
BEGIN:VEVENT
SUMMARY:Karnevalový průvod
LOCATION:Rodinné centrum Kopretina - Oblastní charita Kutná Hora Sdruže
 ní a spolky Kostelní náměstí 186/2
DTSTART:20220224T000000
DTEND:20220225T000000
UID:2026-04-19-21-04-07@infocaslav.cz
DTSTAMP:20260419T190407
Description:
END:VEVENT
END:VCALENDAR
