BEGIN:VCALENDAR
VERSION:2.0
PRODID:-//www.gramonet.cz//GramonetCalLib 1.0//EN
CALSCALE:GREGORIAN
METHOD:PUBLISH
BEGIN:VEVENT
SUMMARY:Kaskadérská show STUNTS
LOCATION:Zemědělské muzeum Čáslav
DTSTART:20231007T000000
DTEND:20231009T000000
UID:2026-04-19-19-31-11@infocaslav.cz
DTSTAMP:20260419T173111
Description:
END:VEVENT
END:VCALENDAR
