BEGIN:VCALENDAR
VERSION:2.0
PRODID:-//www.gramonet.cz//GramonetCalLib 1.0//EN
CALSCALE:GREGORIAN
METHOD:PUBLISH
BEGIN:VEVENT
SUMMARY:Kavárnička
LOCATION:Bašta za Evangelickým kostelem
DTSTART:20241010T000000
DTEND:20241213T000000
UID:2026-04-19-21-02-30@infocaslav.cz
DTSTAMP:20260419T190230
Description:
END:VEVENT
END:VCALENDAR
