BEGIN:VCALENDAR
VERSION:2.0
PRODID:-//www.gramonet.cz//GramonetCalLib 1.0//EN
CALSCALE:GREGORIAN
METHOD:PUBLISH
BEGIN:VEVENT
SUMMARY:Kavárnička
LOCATION:Diakonie Čáslav
DTSTART:20230914T000000
DTEND:20231215T000000
UID:2026-04-19-21-02-21@infocaslav.cz
DTSTAMP:20260419T190221
Description:Kavárnička je setkání všech generací (převážně však 
 té starší) evangelického sboru v Čáslavi\, klientů sociálně-terap
 eutické dílny střediska Diakonie v Čáslavi a široké veřejnosti.\nZ
 ahajujeme krátkou biblickou úvahou\, společně vzpomínáme\, zveme si 
 zajímavé hosty\, zpíváme. \nBudeme se na Vás těšit zpravidla druhý
  čtvrtek v měsíci od 9-11 hodin v kavárně Diakonie Čáslav!
END:VEVENT
END:VCALENDAR
