BEGIN:VCALENDAR
VERSION:2.0
PRODID:-//www.gramonet.cz//GramonetCalLib 1.0//EN
CALSCALE:GREGORIAN
METHOD:PUBLISH
BEGIN:VEVENT
SUMMARY:Kavárnička - Prevence pádů a ztráty svalové síly v seniorsk
 m věku
LOCATION:kavárna Diakonie
DTSTART:20221013T000000
DTEND:20221014T000000
UID:2026-04-19-19-37-17@infocaslav.cz
DTSTAMP:20260419T173717
Description:
END:VEVENT
END:VCALENDAR
