BEGIN:VCALENDAR
VERSION:2.0
PRODID:-//www.gramonet.cz//GramonetCalLib 1.0//EN
CALSCALE:GREGORIAN
METHOD:PUBLISH
BEGIN:VEVENT
SUMMARY:Kavárnička - Putování po Egyptě
LOCATION:kavárna Diakonie
DTSTART:20221010T000000
DTEND:20221011T000000
UID:2026-04-19-19-33-35@infocaslav.cz
DTSTAMP:20260419T173335
Description:
END:VEVENT
END:VCALENDAR
