BEGIN:VCALENDAR
VERSION:2.0
PRODID:-//www.gramonet.cz//GramonetCalLib 1.0//EN
CALSCALE:GREGORIAN
METHOD:PUBLISH
BEGIN:VEVENT
SUMMARY:Kavárničky pro všechny generace
LOCATION:Diakonie, Komenského nám. 140
DTSTART:20220512T000000
DTEND:20220513T000000
UID:2026-04-19-21-06-08@infocaslav.cz
DTSTAMP:20260419T190608
Description:
END:VEVENT
END:VCALENDAR
