BEGIN:VCALENDAR
VERSION:2.0
PRODID:-//www.gramonet.cz//GramonetCalLib 1.0//EN
CALSCALE:GREGORIAN
METHOD:PUBLISH
BEGIN:VEVENT
SUMMARY:KdyÅ¾ se tloukla okna a RÃ©zi na smrtelnÃ© posteli aneb pÅ™ekaÅ¾enÃ
 © modlenÃ­
LOCATION:synagoga ÄŒÃ¡slav
DTSTART:20260307T000000
DTEND:20260308T000000
UID:2026-04-19-19-28-03@infocaslav.cz
DTSTAMP:20260419T172803
Description:
END:VEVENT
END:VCALENDAR
