BEGIN:VCALENDAR
VERSION:2.0
PRODID:-//www.gramonet.cz//GramonetCalLib 1.0//EN
CALSCALE:GREGORIAN
METHOD:PUBLISH
BEGIN:VEVENT
SUMMARY:KEKS
LOCATION:společenský sál Hotelu grand Čáslav
DTSTART:20260404T000000
DTEND:20260405T000000
UID:2026-04-19-19-26-24@infocaslav.cz
DTSTAMP:20260419T172624
Description:
END:VEVENT
END:VCALENDAR
