BEGIN:VCALENDAR
VERSION:2.0
PRODID:-//www.gramonet.cz//GramonetCalLib 1.0//EN
CALSCALE:GREGORIAN
METHOD:PUBLISH
BEGIN:VEVENT
SUMMARY:Koncert kapely KEKS
LOCATION:Grand Čáslav
DTSTART:20240413T000000
DTEND:20240414T000000
UID:2026-04-19-19-26-10@infocaslav.cz
DTSTAMP:20260419T172610
Description:
END:VEVENT
END:VCALENDAR
