BEGIN:VCALENDAR
VERSION:2.0
PRODID:-//www.gramonet.cz//GramonetCalLib 1.0//EN
CALSCALE:GREGORIAN
METHOD:PUBLISH
BEGIN:VEVENT
SUMMARY:Keramický workshop - Bistro 85
LOCATION:Bistro 85
DTSTART:20240530T000000
DTEND:20240531T000000
UID:2026-04-19-21-04-06@infocaslav.cz
DTSTAMP:20260419T190406
Description:Srdečně Vás zvu na můj první keramický workshop ve spolus
 právci s Bistrem 85. MARIE BERAN
END:VEVENT
END:VCALENDAR
