BEGIN:VCALENDAR
VERSION:2.0
PRODID:-//www.gramonet.cz//GramonetCalLib 1.0//EN
CALSCALE:GREGORIAN
METHOD:PUBLISH
BEGIN:VEVENT
SUMMARY:Kino - A máme, co jsme chtěli
LOCATION:Kino Miloše Formana
DTSTART:20240308T000000
DTEND:20240309T000000
UID:2026-04-19-19-33-31@infocaslav.cz
DTSTAMP:20260419T173331
Description:
END:VEVENT
END:VCALENDAR
