BEGIN:VCALENDAR
VERSION:2.0
PRODID:-//www.gramonet.cz//GramonetCalLib 1.0//EN
CALSCALE:GREGORIAN
METHOD:PUBLISH
BEGIN:VEVENT
SUMMARY:Kino - Bob Marley: One Love
LOCATION:Kino Miloše Formana
DTSTART:20240215T000000
DTEND:20240216T000000
UID:2026-04-19-19-33-22@infocaslav.cz
DTSTAMP:20260419T173322
Description:
END:VEVENT
END:VCALENDAR
