BEGIN:VCALENDAR
VERSION:2.0
PRODID:-//www.gramonet.cz//GramonetCalLib 1.0//EN
CALSCALE:GREGORIAN
METHOD:PUBLISH
BEGIN:VEVENT
SUMMARY:Kino - Ella a černý jaguár
LOCATION:Kino Miloše Formana
DTSTART:20240316T000000
DTEND:20240317T000000
UID:2026-04-19-19-33-57@infocaslav.cz
DTSTAMP:20260419T173357
Description:
END:VEVENT
END:VCALENDAR
