BEGIN:VCALENDAR
VERSION:2.0
PRODID:-//www.gramonet.cz//GramonetCalLib 1.0//EN
CALSCALE:GREGORIAN
METHOD:PUBLISH
BEGIN:VEVENT
SUMMARY:Kino - Gump – jsme dvojka
LOCATION:Kino Miloše Formana
DTSTART:20240328T000000
DTEND:20240329T000000
UID:2026-04-19-19-34-50@infocaslav.cz
DTSTAMP:20260419T173450
Description:
END:VEVENT
END:VCALENDAR
