BEGIN:VCALENDAR
VERSION:2.0
PRODID:-//www.gramonet.cz//GramonetCalLib 1.0//EN
CALSCALE:GREGORIAN
METHOD:PUBLISH
BEGIN:VEVENT
SUMMARY:KINO - HALLOWEEN HOROR
LOCATION:Vinaře, staré hřiště
DTSTART:20231027T000000
DTEND:20231028T000000
UID:2026-04-19-21-07-00@infocaslav.cz
DTSTAMP:20260419T190700
Description:Můžete se těšit na horor V zajetí démonů ve 20 hodin.
END:VEVENT
END:VCALENDAR
