BEGIN:VCALENDAR
VERSION:2.0
PRODID:-//www.gramonet.cz//GramonetCalLib 1.0//EN
CALSCALE:GREGORIAN
METHOD:PUBLISH
BEGIN:VEVENT
SUMMARY:Kino - Jak zachránit draka
LOCATION:Kino Miloše Formana
DTSTART:20240420T000000
DTEND:20240421T000000
UID:2026-04-19-19-34-38@infocaslav.cz
DTSTAMP:20260419T173438
Description:
END:VEVENT
END:VCALENDAR
