BEGIN:VCALENDAR
VERSION:2.0
PRODID:-//www.gramonet.cz//GramonetCalLib 1.0//EN
CALSCALE:GREGORIAN
METHOD:PUBLISH
BEGIN:VEVENT
SUMMARY:Kino - Krotitelé duchů: Říše ledu
LOCATION:Kino Miloše Formana
DTSTART:20240426T000000
DTEND:20240427T000000
UID:2026-04-19-19-36-13@infocaslav.cz
DTSTAMP:20260419T173613
Description:
END:VEVENT
END:VCALENDAR
