BEGIN:VCALENDAR
VERSION:2.0
PRODID:-//www.gramonet.cz//GramonetCalLib 1.0//EN
CALSCALE:GREGORIAN
METHOD:PUBLISH
BEGIN:VEVENT
SUMMARY:Kino - Manželé Stodolovi
LOCATION:Kino Miloše Formana
DTSTART:20240330T000000
DTEND:20240331T000000
UID:2026-04-19-19-34-30@infocaslav.cz
DTSTAMP:20260419T173430
Description:
END:VEVENT
END:VCALENDAR
