BEGIN:VCALENDAR
VERSION:2.0
PRODID:-//www.gramonet.cz//GramonetCalLib 1.0//EN
CALSCALE:GREGORIAN
METHOD:PUBLISH
BEGIN:VEVENT
SUMMARY:Kino - Max & Mája: Příběh lištiček
LOCATION:Kino Miloše Formana
DTSTART:20240302T000000
DTEND:20240303T000000
UID:2026-04-19-19-35-17@infocaslav.cz
DTSTAMP:20260419T173517
Description:
END:VEVENT
END:VCALENDAR
