BEGIN:VCALENDAR
VERSION:2.0
PRODID:-//www.gramonet.cz//GramonetCalLib 1.0//EN
CALSCALE:GREGORIAN
METHOD:PUBLISH
BEGIN:VEVENT
SUMMARY:Kino na kolečkách
LOCATION:Diakonie Střední Čechy, Komenského nám. 140/8
DTSTART:20220817T000000
DTEND:20220818T000000
UID:2026-04-19-19-33-09@infocaslav.cz
DTSTAMP:20260419T173309
Description:
END:VEVENT
END:VCALENDAR
