BEGIN:VCALENDAR
VERSION:2.0
PRODID:-//www.gramonet.cz//GramonetCalLib 1.0//EN
CALSCALE:GREGORIAN
METHOD:PUBLISH
BEGIN:VEVENT
SUMMARY:Kino pod hvězdami
LOCATION:Letní kino Vinaře, staré hřiště
DTSTART:20240720T000000
DTEND:20240825T000000
UID:2026-04-19-19-32-42@infocaslav.cz
DTSTAMP:20260419T173242
Description:Zveme Vás do letního kina Vinaře\, vstupné dobrovolné.
END:VEVENT
END:VCALENDAR
