BEGIN:VCALENDAR
VERSION:2.0
PRODID:-//www.gramonet.cz//GramonetCalLib 1.0//EN
CALSCALE:GREGORIAN
METHOD:PUBLISH
BEGIN:VEVENT
SUMMARY:KINO POD ŠIRÁKEM - Nikdy neříkej nikdy
LOCATION:Dusíkovo divadlo
DTSTART:20230828T000000
DTEND:20230829T000000
UID:2026-04-19-19-34-18@infocaslav.cz
DTSTAMP:20260419T173418
Description:
END:VEVENT
END:VCALENDAR
