BEGIN:VCALENDAR
VERSION:2.0
PRODID:-//www.gramonet.cz//GramonetCalLib 1.0//EN
CALSCALE:GREGORIAN
METHOD:PUBLISH
BEGIN:VEVENT
SUMMARY:KINO POD ŠIRÁKEM - Princezna zakletá v čase 2
LOCATION:Dusíkovo divadlo
DTSTART:20230827T000000
DTEND:20230828T000000
UID:2026-04-19-21-07-58@infocaslav.cz
DTSTAMP:20260419T190758
Description:
END:VEVENT
END:VCALENDAR
