BEGIN:VCALENDAR
VERSION:2.0
PRODID:-//www.gramonet.cz//GramonetCalLib 1.0//EN
CALSCALE:GREGORIAN
METHOD:PUBLISH
BEGIN:VEVENT
SUMMARY:KINO POD ŠIRÁKEM - Samotáři
LOCATION:Dusíkovo divadlo
DTSTART:20230724T000000
DTEND:20230725T000000
UID:2026-04-19-19-33-00@infocaslav.cz
DTSTAMP:20260419T173300
Description:
END:VEVENT
END:VCALENDAR
