BEGIN:VCALENDAR
VERSION:2.0
PRODID:-//www.gramonet.cz//GramonetCalLib 1.0//EN
CALSCALE:GREGORIAN
METHOD:PUBLISH
BEGIN:VEVENT
SUMMARY:KINO POD ŠIRÁKEM - Suprákovi
LOCATION:Dusíkovo divadlo
DTSTART:20230806T000000
DTEND:20230807T000000
UID:2026-04-19-19-35-44@infocaslav.cz
DTSTAMP:20260419T173544
Description:
END:VEVENT
END:VCALENDAR
