BEGIN:VCALENDAR
VERSION:2.0
PRODID:-//www.gramonet.cz//GramonetCalLib 1.0//EN
CALSCALE:GREGORIAN
METHOD:PUBLISH
BEGIN:VEVENT
SUMMARY:KINO POD ŠIRÁKEM - ZOUBKOVÁ VÍLA
LOCATION:Dusíkovo divadlo
DTSTART:20230709T000000
DTEND:20230710T000000
UID:2026-04-19-19-35-55@infocaslav.cz
DTSTAMP:20260419T173555
Description:
END:VEVENT
END:VCALENDAR
