BEGIN:VCALENDAR
VERSION:2.0
PRODID:-//www.gramonet.cz//GramonetCalLib 1.0//EN
CALSCALE:GREGORIAN
METHOD:PUBLISH
BEGIN:VEVENT
SUMMARY:Kino - Prázdniny s broučkem
LOCATION:Kino Miloše Formana
DTSTART:20240427T000000
DTEND:20240428T000000
UID:2026-04-19-19-34-26@infocaslav.cz
DTSTAMP:20260419T173426
Description:
END:VEVENT
END:VCALENDAR
