BEGIN:VCALENDAR
VERSION:2.0
PRODID:-//www.gramonet.cz//GramonetCalLib 1.0//EN
CALSCALE:GREGORIAN
METHOD:PUBLISH
BEGIN:VEVENT
SUMMARY:Kino - Princezna se zlatou hvězdou na čele
LOCATION:Kino Miloše Formana
DTSTART:20231201T000000
DTEND:20231202T000000
UID:2026-04-19-19-37-27@infocaslav.cz
DTSTAMP:20260419T173727
Description:
END:VEVENT
END:VCALENDAR
