BEGIN:VCALENDAR
VERSION:2.0
PRODID:-//www.gramonet.cz//GramonetCalLib 1.0//EN
CALSCALE:GREGORIAN
METHOD:PUBLISH
BEGIN:VEVENT
SUMMARY:Kino - První znamení: Přichází satan!
LOCATION:Kino Miloše Formana
DTSTART:20240405T000000
DTEND:20240406T000000
UID:2026-04-19-19-28-02@infocaslav.cz
DTSTAMP:20260419T172802
Description:
END:VEVENT
END:VCALENDAR
