BEGIN:VCALENDAR
VERSION:2.0
PRODID:-//www.gramonet.cz//GramonetCalLib 1.0//EN
CALSCALE:GREGORIAN
METHOD:PUBLISH
BEGIN:VEVENT
SUMMARY:Kino - To se mi snad zdá
LOCATION:Kino Miloše Formana
DTSTART:20240126T000000
DTEND:20240127T000000
UID:2026-04-19-20-59-01@infocaslav.cz
DTSTAMP:20260419T185901
Description:
END:VEVENT
END:VCALENDAR
