BEGIN:VCALENDAR
VERSION:2.0
PRODID:-//www.gramonet.cz//GramonetCalLib 1.0//EN
CALSCALE:GREGORIAN
METHOD:PUBLISH
BEGIN:VEVENT
SUMMARY:Kino - Vynálezce
LOCATION:Kino Miloše Formana
DTSTART:20240120T000000
DTEND:20240121T000000
UID:2026-04-19-19-29-37@infocaslav.cz
DTSTAMP:20260419T172937
Description:
END:VEVENT
END:VCALENDAR
