BEGIN:VCALENDAR
VERSION:2.0
PRODID:-//www.gramonet.cz//GramonetCalLib 1.0//EN
CALSCALE:GREGORIAN
METHOD:PUBLISH
BEGIN:VEVENT
SUMMARY:Klášterskou ulicí do Toufárny
LOCATION:Kostelní náměstí
DTSTART:20241005T000000
DTEND:20241006T000000
UID:2026-04-19-19-34-40@infocaslav.cz
DTSTAMP:20260419T173440
Description:Vlastivědná vycházka Čáslaví s PhDr. Janou Vaněčkovou z
 ačíná v 16 hodin na Kostelním náměstí před vchodem do kostela dne 
 5. 10.2024.
END:VEVENT
END:VCALENDAR
