BEGIN:VCALENDAR
VERSION:2.0
PRODID:-//www.gramonet.cz//GramonetCalLib 1.0//EN
CALSCALE:GREGORIAN
METHOD:PUBLISH
BEGIN:VEVENT
SUMMARY:Klub přátel knihovny - bezpečí našich peněz
LOCATION:Knihovna Čáslav
DTSTART:20240418T000000
DTEND:20240419T000000
UID:2026-04-19-21-20-59@infocaslav.cz
DTSTAMP:20260419T192059
Description:
END:VEVENT
END:VCALENDAR
