BEGIN:VCALENDAR
VERSION:2.0
PRODID:-//www.gramonet.cz//GramonetCalLib 1.0//EN
CALSCALE:GREGORIAN
METHOD:PUBLISH
BEGIN:VEVENT
SUMMARY:Klub přátel knihovny - o jedlých kytkách
LOCATION:Knihovna Čáslav
DTSTART:20240321T000000
DTEND:20240322T000000
UID:2026-04-19-19-36-20@infocaslav.cz
DTSTAMP:20260419T173620
Description:
END:VEVENT
END:VCALENDAR
