BEGIN:VCALENDAR
VERSION:2.0
PRODID:-//www.gramonet.cz//GramonetCalLib 1.0//EN
CALSCALE:GREGORIAN
METHOD:PUBLISH
BEGIN:VEVENT
SUMMARY:Klub přátel knihovny - Orchideje v ČR
LOCATION:Knihovna Čáslav
DTSTART:20240516T000000
DTEND:20240517T000000
UID:2026-04-19-19-36-19@infocaslav.cz
DTSTAMP:20260419T173619
Description:
END:VEVENT
END:VCALENDAR
