BEGIN:VCALENDAR
VERSION:2.0
PRODID:-//www.gramonet.cz//GramonetCalLib 1.0//EN
CALSCALE:GREGORIAN
METHOD:PUBLISH
BEGIN:VEVENT
SUMMARY:Klub rodáků
LOCATION:náměstí Jana Žižky, sraz před radnicí v 14:00
DTSTART:20220521T000000
DTEND:20220522T000000
UID:2026-04-19-21-03-21@infocaslav.cz
DTSTAMP:20260419T190321
Description:
END:VEVENT
END:VCALENDAR
