BEGIN:VCALENDAR
VERSION:2.0
PRODID:-//www.gramonet.cz//GramonetCalLib 1.0//EN
CALSCALE:GREGORIAN
METHOD:PUBLISH
BEGIN:VEVENT
SUMMARY:Klubová rozlučka se sezónou
LOCATION:Fotbalový stadion
DTSTART:20230617T000000
DTEND:20230618T000000
UID:2026-04-19-19-35-57@infocaslav.cz
DTSTAMP:20260419T173557
Description:
END:VEVENT
END:VCALENDAR
